BEGIN:VCALENDAR
VERSION:2.0
PRODID:Taipan
BEGIN:VTIMEZONE
TZID:Australia/Brisbane
BEGIN:STANDARD
DTSTART:16010101T000000
TZOFFSETFROM:+1000
TZOFFSETTO:+1000
END:STANDARD
END:VTIMEZONE
BEGIN:VEVENT
CLASS:PUBLIC
SUMMARY;CHARSET=utf-8:February Business Luncheon - Managing your Small Business
LOCATION;CHARSET=utf-8:Cairns Convention Centre
DESCRIPTION;CHARSET=utf-8:Join us at our February Business Luncheon and explore strategies and techniques for running a small to medium business with confidence.
DTSTART;TZID=Australia/Brisbane:20190226T113000
DTEND;TZID=Australia/Brisbane:20190226T133000
END:VEVENT
END:VCALENDAR
