BEGIN:VCALENDAR
VERSION:2.0
PRODID:Taipan
BEGIN:VTIMEZONE
TZID:Australia/Brisbane
BEGIN:STANDARD
DTSTART:16010101T000000
TZOFFSETFROM:+1000
TZOFFSETTO:+1000
END:STANDARD
END:VTIMEZONE
BEGIN:VEVENT
CLASS:PUBLIC
SUMMARY;CHARSET=utf-8:2022 Federal Election: Meet the Candidates Corporate Luncheon
LOCATION;CHARSET=utf-8:Pullman Reef Hotel Casino
DESCRIPTION;CHARSET=utf-8:The Cairns Chamber of Commerce\, Advance Cairns and Tourism Tropical North Queensland invite you to hear from candidates first-hand about the policies and commitments each party proposes as part of their election campaign at the 2022 Federal Election.
DTSTART;TZID=Australia/Brisbane:20220427T113000
DTEND;TZID=Australia/Brisbane:20220427T140000
END:VEVENT
END:VCALENDAR
